BEGIN:VCALENDAR
VERSION:2.0
PRODID:-//National Quilt Museum - ECPv6.15.20//NONSGML v1.0//EN
CALSCALE:GREGORIAN
METHOD:PUBLISH
X-WR-CALNAME:National Quilt Museum
X-ORIGINAL-URL:https://quiltmuseum.org
X-WR-CALDESC:Events for National Quilt Museum
REFRESH-INTERVAL;VALUE=DURATION:PT1H
X-Robots-Tag:noindex
X-PUBLISHED-TTL:PT1H
BEGIN:VTIMEZONE
TZID:America/Chicago
BEGIN:DAYLIGHT
TZOFFSETFROM:-0600
TZOFFSETTO:-0500
TZNAME:CDT
DTSTART:20250309T080000
END:DAYLIGHT
BEGIN:STANDARD
TZOFFSETFROM:-0500
TZOFFSETTO:-0600
TZNAME:CST
DTSTART:20251102T070000
END:STANDARD
BEGIN:DAYLIGHT
TZOFFSETFROM:-0600
TZOFFSETTO:-0500
TZNAME:CDT
DTSTART:20260308T080000
END:DAYLIGHT
BEGIN:STANDARD
TZOFFSETFROM:-0500
TZOFFSETTO:-0600
TZNAME:CST
DTSTART:20261101T070000
END:STANDARD
BEGIN:DAYLIGHT
TZOFFSETFROM:-0600
TZOFFSETTO:-0500
TZNAME:CDT
DTSTART:20270314T080000
END:DAYLIGHT
BEGIN:STANDARD
TZOFFSETFROM:-0500
TZOFFSETTO:-0600
TZNAME:CST
DTSTART:20271107T070000
END:STANDARD
BEGIN:DAYLIGHT
TZOFFSETFROM:-0600
TZOFFSETTO:-0500
TZNAME:CDT
DTSTART:20280312T080000
END:DAYLIGHT
BEGIN:STANDARD
TZOFFSETFROM:-0500
TZOFFSETTO:-0600
TZNAME:CST
DTSTART:20281105T070000
END:STANDARD
BEGIN:DAYLIGHT
TZOFFSETFROM:-0600
TZOFFSETTO:-0500
TZNAME:CDT
DTSTART:20290311T080000
END:DAYLIGHT
BEGIN:STANDARD
TZOFFSETFROM:-0500
TZOFFSETTO:-0600
TZNAME:CST
DTSTART:20291104T070000
END:STANDARD
BEGIN:DAYLIGHT
TZOFFSETFROM:-0600
TZOFFSETTO:-0500
TZNAME:CDT
DTSTART:20300310T080000
END:DAYLIGHT
BEGIN:STANDARD
TZOFFSETFROM:-0500
TZOFFSETTO:-0600
TZNAME:CST
DTSTART:20301103T070000
END:STANDARD
END:VTIMEZONE
BEGIN:VEVENT
DTSTART;VALUE=DATE:20261225
DTEND;VALUE=DATE:20261226
DTSTAMP:20260422T180906
CREATED:20250331T144439Z
LAST-MODIFIED:20250331T144515Z
UID:10000160-1798156800-1798243199@quiltmuseum.org
SUMMARY:CLOSED: Christmas Day
DESCRIPTION:
URL:https://quiltmuseum.org/event/closed-christmas-day/2026-12-25/
LOCATION:National Quilt Museum\, 215 Jefferson Street\, Paducah\, 42001\, United States
CATEGORIES:NQM Schedule
ATTACH;FMTTYPE=image/jpeg:https://quiltmuseum.org/wp-content/uploads/2023/10/2023-09-01-NQM-facade-2-scaled.jpg
END:VEVENT
BEGIN:VEVENT
DTSTART;VALUE=DATE:20271225
DTEND;VALUE=DATE:20271226
DTSTAMP:20260422T180906
CREATED:20250331T144439Z
LAST-MODIFIED:20250331T144515Z
UID:10000161-1829692800-1829779199@quiltmuseum.org
SUMMARY:CLOSED: Christmas Day
DESCRIPTION:
URL:https://quiltmuseum.org/event/closed-christmas-day/2027-12-25/
LOCATION:National Quilt Museum\, 215 Jefferson Street\, Paducah\, 42001\, United States
CATEGORIES:NQM Schedule
ATTACH;FMTTYPE=image/jpeg:https://quiltmuseum.org/wp-content/uploads/2023/10/2023-09-01-NQM-facade-2-scaled.jpg
END:VEVENT
BEGIN:VEVENT
DTSTART;VALUE=DATE:20281225
DTEND;VALUE=DATE:20281226
DTSTAMP:20260422T180906
CREATED:20250331T144439Z
LAST-MODIFIED:20250331T144515Z
UID:10000162-1861315200-1861401599@quiltmuseum.org
SUMMARY:CLOSED: Christmas Day
DESCRIPTION:
URL:https://quiltmuseum.org/event/closed-christmas-day/2028-12-25/
LOCATION:National Quilt Museum\, 215 Jefferson Street\, Paducah\, 42001\, United States
CATEGORIES:NQM Schedule
ATTACH;FMTTYPE=image/jpeg:https://quiltmuseum.org/wp-content/uploads/2023/10/2023-09-01-NQM-facade-2-scaled.jpg
END:VEVENT
BEGIN:VEVENT
DTSTART;VALUE=DATE:20291225
DTEND;VALUE=DATE:20291226
DTSTAMP:20260422T180906
CREATED:20250331T144439Z
LAST-MODIFIED:20250331T144515Z
UID:10000163-1892851200-1892937599@quiltmuseum.org
SUMMARY:CLOSED: Christmas Day
DESCRIPTION:
URL:https://quiltmuseum.org/event/closed-christmas-day/2029-12-25/
LOCATION:National Quilt Museum\, 215 Jefferson Street\, Paducah\, 42001\, United States
CATEGORIES:NQM Schedule
ATTACH;FMTTYPE=image/jpeg:https://quiltmuseum.org/wp-content/uploads/2023/10/2023-09-01-NQM-facade-2-scaled.jpg
END:VEVENT
END:VCALENDAR