BEGIN:VCALENDAR
VERSION:2.0
PRODID:-//National Quilt Museum - ECPv6.15.20//NONSGML v1.0//EN
CALSCALE:GREGORIAN
METHOD:PUBLISH
X-WR-CALNAME:National Quilt Museum
X-ORIGINAL-URL:https://quiltmuseum.org
X-WR-CALDESC:Events for National Quilt Museum
REFRESH-INTERVAL;VALUE=DURATION:PT1H
X-Robots-Tag:noindex
X-PUBLISHED-TTL:PT1H
BEGIN:VTIMEZONE
TZID:America/Chicago
BEGIN:DAYLIGHT
TZOFFSETFROM:-0600
TZOFFSETTO:-0500
TZNAME:CDT
DTSTART:20240310T080000
END:DAYLIGHT
BEGIN:STANDARD
TZOFFSETFROM:-0500
TZOFFSETTO:-0600
TZNAME:CST
DTSTART:20241103T070000
END:STANDARD
BEGIN:DAYLIGHT
TZOFFSETFROM:-0600
TZOFFSETTO:-0500
TZNAME:CDT
DTSTART:20250309T080000
END:DAYLIGHT
BEGIN:STANDARD
TZOFFSETFROM:-0500
TZOFFSETTO:-0600
TZNAME:CST
DTSTART:20251102T070000
END:STANDARD
BEGIN:DAYLIGHT
TZOFFSETFROM:-0600
TZOFFSETTO:-0500
TZNAME:CDT
DTSTART:20260308T080000
END:DAYLIGHT
BEGIN:STANDARD
TZOFFSETFROM:-0500
TZOFFSETTO:-0600
TZNAME:CST
DTSTART:20261101T070000
END:STANDARD
END:VTIMEZONE
BEGIN:VEVENT
DTSTART;TZID=America/Chicago:20250806T090000
DTEND;TZID=America/Chicago:20250808T160000
DTSTAMP:20260423T053349
CREATED:20250411T164515Z
LAST-MODIFIED:20250411T164515Z
UID:10000195-1754470800-1754668800@quiltmuseum.org
SUMMARY:Mary Margaret Pettway Workshop: Quilt Design and Hand Quilting
DESCRIPTION:
URL:https://quiltmuseum.org/event/mary-margaret-pettway-workshop-quilt-design-and-hand-quilting/
LOCATION:National Quilt Museum\, 215 Jefferson Street\, Paducah\, 42001\, United States
CATEGORIES:Education
ATTACH;FMTTYPE=image/jpeg:https://quiltmuseum.org/wp-content/uploads/2025/02/bldg03-scaled.jpg
END:VEVENT
BEGIN:VEVENT
DTSTART;TZID=America/Chicago:20250805T080000
DTEND;TZID=America/Chicago:20250805T170000
DTSTAMP:20260423T053349
CREATED:20250711T163439Z
LAST-MODIFIED:20250711T164044Z
UID:10000207-1754380800-1754413200@quiltmuseum.org
SUMMARY:Museum Closed
DESCRIPTION:
URL:https://quiltmuseum.org/event/museum-closed/
LOCATION:National Quilt Museum\, 215 Jefferson Street\, Paducah\, 42001\, United States
ATTACH;FMTTYPE=image/jpeg:https://quiltmuseum.org/wp-content/uploads/2025/02/bldg03-scaled.jpg
END:VEVENT
BEGIN:VEVENT
DTSTART;TZID=America/Chicago:20250801T090000
DTEND;TZID=America/Chicago:20251228T170000
DTSTAMP:20260423T053349
CREATED:20250515T161718Z
LAST-MODIFIED:20250902T153444Z
UID:10000206-1754038800-1766941200@quiltmuseum.org
SUMMARY:Gee's Bend Quilter: Whiles I Yet Live
DESCRIPTION:By Marlene Bennett JonesPhoto:Stephen Pitkin/Pitkin Studio/Courtesy Souls Grown Deep
URL:https://quiltmuseum.org/event/gees-bend-quilters/
LOCATION:National Quilt Museum\, 215 Jefferson Street\, Paducah\, 42001\, United States
END:VEVENT
BEGIN:VEVENT
DTSTART;TZID=America/Chicago:20250710T090000
DTEND;TZID=America/Chicago:20250712T160000
DTSTAMP:20260423T053349
CREATED:20250411T164150Z
LAST-MODIFIED:20250411T164150Z
UID:10000194-1752138000-1752336000@quiltmuseum.org
SUMMARY:Victoria Findlay Wolfe Workshop: Traveling Hearts Quilt
DESCRIPTION:
URL:https://quiltmuseum.org/event/victoria-findlay-wolfe-workshop-traveling-hearts-quilt/
LOCATION:National Quilt Museum\, 215 Jefferson Street\, Paducah\, 42001\, United States
CATEGORIES:Education
ATTACH;FMTTYPE=image/jpeg:https://quiltmuseum.org/wp-content/uploads/2024/11/TravelingHeartsQuilt-copy.jpg
END:VEVENT
BEGIN:VEVENT
DTSTART;TZID=America/Chicago:20250623T140000
DTEND;TZID=America/Chicago:20250626T163000
DTSTAMP:20260423T053349
CREATED:20250408T143250Z
LAST-MODIFIED:20250408T143250Z
UID:10000188-1750687200-1750955400@quiltmuseum.org
SUMMARY:Quilt Camp: Beginner IV
DESCRIPTION:
URL:https://quiltmuseum.org/event/quilt-camp-beginner-iv-2/
LOCATION:National Quilt Museum\, 215 Jefferson Street\, Paducah\, 42001\, United States
CATEGORIES:Education,Quilt Camps
END:VEVENT
BEGIN:VEVENT
DTSTART;TZID=America/Chicago:20250623T093000
DTEND;TZID=America/Chicago:20250626T120000
DTSTAMP:20260423T053349
CREATED:20250408T143200Z
LAST-MODIFIED:20250408T143200Z
UID:10000187-1750671000-1750939200@quiltmuseum.org
SUMMARY:Quilt Camp: Beginner III
DESCRIPTION:
URL:https://quiltmuseum.org/event/quilt-camp-beginner-iii-3/
LOCATION:National Quilt Museum\, 215 Jefferson Street\, Paducah\, 42001\, United States
CATEGORIES:Education,Quilt Camps
END:VEVENT
BEGIN:VEVENT
DTSTART;TZID=America/Chicago:20250616T140000
DTEND;TZID=America/Chicago:20250619T163000
DTSTAMP:20260423T053349
CREATED:20250408T143051Z
LAST-MODIFIED:20250408T143051Z
UID:10000186-1750082400-1750350600@quiltmuseum.org
SUMMARY:Quilt Camp: Advanced
DESCRIPTION:
URL:https://quiltmuseum.org/event/quilt-camp-advanced-3/
LOCATION:National Quilt Museum\, 215 Jefferson Street\, Paducah\, 42001\, United States
CATEGORIES:Education,Quilt Camps
END:VEVENT
BEGIN:VEVENT
DTSTART;TZID=America/Chicago:20250616T093000
DTEND;TZID=America/Chicago:20250619T120000
DTSTAMP:20260423T053349
CREATED:20250408T142959Z
LAST-MODIFIED:20250408T142959Z
UID:10000185-1750066200-1750334400@quiltmuseum.org
SUMMARY:Quilt Camp: Intermediate
DESCRIPTION:
URL:https://quiltmuseum.org/event/quilt-camp-intermediate-3/
LOCATION:National Quilt Museum\, 215 Jefferson Street\, Paducah\, 42001\, United States
CATEGORIES:Education,Quilt Camps
END:VEVENT
BEGIN:VEVENT
DTSTART;TZID=America/Chicago:20250609T140000
DTEND;TZID=America/Chicago:20250612T163000
DTSTAMP:20260423T053349
CREATED:20250408T142906Z
LAST-MODIFIED:20250408T142906Z
UID:10000184-1749477600-1749745800@quiltmuseum.org
SUMMARY:Quilt Camp: Beginner II
DESCRIPTION:
URL:https://quiltmuseum.org/event/quilt-camp-beginner-ii-3/
LOCATION:National Quilt Museum\, 215 Jefferson Street\, Paducah\, 42001\, United States
CATEGORIES:Education,Quilt Camps
END:VEVENT
BEGIN:VEVENT
DTSTART;TZID=America/Chicago:20250609T093000
DTEND;TZID=America/Chicago:20250612T120000
DTSTAMP:20260423T053349
CREATED:20250408T142806Z
LAST-MODIFIED:20250408T142806Z
UID:10000183-1749461400-1749729600@quiltmuseum.org
SUMMARY:Quilt Camp: Beginner I
DESCRIPTION:
URL:https://quiltmuseum.org/event/quilt-camp-beginner-i-3/
LOCATION:National Quilt Museum\, 215 Jefferson Street\, Paducah\, 42001\, United States
CATEGORIES:Education,Quilt Camps
END:VEVENT
BEGIN:VEVENT
DTSTART;TZID=America/Chicago:20250427T130000
DTEND;TZID=America/Chicago:20250427T170000
DTSTAMP:20260423T053349
CREATED:20250320T152051Z
LAST-MODIFIED:20250320T152051Z
UID:10000148-1745758800-1745773200@quiltmuseum.org
SUMMARY:QuiltWeek Museum Hours - Open 1 – 5 pm
DESCRIPTION:QuiltWeek Museum Hours – Open 1 pm – 5 pm
URL:https://quiltmuseum.org/event/quiltweek-museum-hours-open-1-5-pm/
LOCATION:National Quilt Museum\, 215 Jefferson Street\, Paducah\, 42001\, United States
CATEGORIES:NQM Schedule
ATTACH;FMTTYPE=image/jpeg:https://quiltmuseum.org/wp-content/uploads/2024/08/20240820_135408-scaled-e1724181496588.jpg
END:VEVENT
BEGIN:VEVENT
DTSTART;TZID=America/Chicago:20250426T110000
DTEND;TZID=America/Chicago:20250426T120000
DTSTAMP:20260423T053349
CREATED:20250320T153833Z
LAST-MODIFIED:20250418T162410Z
UID:10000155-1745665200-1745668800@quiltmuseum.org
SUMMARY:Meet the Artist: Victoria Findlay Wolfe
DESCRIPTION:Meet the Artist: Victoria Findlay Wolfe  “Option Expedition” exhibition\, and Collection Artist Soigné & Mindful Balance\n11:00 am
URL:https://quiltmuseum.org/event/meet-the-artist-victoria-findlay-wolfe/
LOCATION:National Quilt Museum\, 215 Jefferson Street\, Paducah\, 42001\, United States
CATEGORIES:Meet the Artist,Quilt Week
ATTACH;FMTTYPE=image/jpeg:https://quiltmuseum.org/wp-content/uploads/2024/08/reddot6.jpg
END:VEVENT
BEGIN:VEVENT
DTSTART;TZID=America/Chicago:20250426T100000
DTEND;TZID=America/Chicago:20250426T170000
DTSTAMP:20260423T053349
CREATED:20250320T152644Z
LAST-MODIFIED:20250320T152644Z
UID:10000151-1745661600-1745686800@quiltmuseum.org
SUMMARY:QuiltWeek Museum Hours - Open 10 am – 5 pm
DESCRIPTION:QuiltWeek Museum Hours – Open 10 am – 5 pm
URL:https://quiltmuseum.org/event/quiltweek-museum-hours-open-10-am-5-pm-3/
LOCATION:National Quilt Museum\, 215 Jefferson Street\, Paducah\, 42001\, United States
CATEGORIES:NQM Schedule
ATTACH;FMTTYPE=image/jpeg:https://quiltmuseum.org/wp-content/uploads/2024/08/20240820_135408-scaled-e1724181496588.jpg
END:VEVENT
BEGIN:VEVENT
DTSTART;TZID=America/Chicago:20250425T150000
DTEND;TZID=America/Chicago:20250425T150000
DTSTAMP:20260423T053349
CREATED:20250424T145355Z
LAST-MODIFIED:20250424T145355Z
UID:10000205-1745593200-1745593200@quiltmuseum.org
SUMMARY:Meet the Artist: Margaret Solomon Gunn Collection Quilt: Sweet Madame Blue
DESCRIPTION:Meet the Artist: Margaret Solomon Gunn  -Collection Quilt: Sweet Madame Blue \n3pm\, in the gallery with general admission
URL:https://quiltmuseum.org/event/meet-the-artist-margaret-solomon-gunn-collection-quilt-sweet-madame-blue/
LOCATION:National Quilt Museum\, 215 Jefferson Street\, Paducah\, 42001\, United States
CATEGORIES:Events,Meet the Artist
ATTACH;FMTTYPE=image/jpeg:https://quiltmuseum.org/wp-content/uploads/2025/04/807-sweet-madame-blue.jpg
END:VEVENT
BEGIN:VEVENT
DTSTART;TZID=America/Chicago:20250425T140000
DTEND;TZID=America/Chicago:20250425T150000
DTSTAMP:20260423T053349
CREATED:20250411T170147Z
LAST-MODIFIED:20250418T155941Z
UID:10000199-1745589600-1745593200@quiltmuseum.org
SUMMARY:Meet the Artist: Mildred Sorrells Collection Quilt: Charisma\, Golden Glow and Phantasy
DESCRIPTION:Meet the Artist: Mildred Sorrells Collection Quilt: Charisma\, Golden Glow and Phantasy
URL:https://quiltmuseum.org/event/mildred-sorrells-collection-quilt-charisma-golden-glow-and-phantasy-artist-talk/
LOCATION:National Quilt Museum\, 215 Jefferson Street\, Paducah\, 42001\, United States
CATEGORIES:Meet the Artist,Quilt Week
ATTACH;FMTTYPE=image/jpeg:https://quiltmuseum.org/wp-content/uploads/2025/04/2010-04-01-Charisma-db.jpg
END:VEVENT
BEGIN:VEVENT
DTSTART;TZID=America/Chicago:20250425T130000
DTEND;TZID=America/Chicago:20250425T140000
DTSTAMP:20260423T053349
CREATED:20250418T144248Z
LAST-MODIFIED:20250418T160704Z
UID:10000202-1745586000-1745589600@quiltmuseum.org
SUMMARY:Meet the Artist: Cassandra Beaver Collection Quilt Infused Plaid
DESCRIPTION:Meet the Artist: Cassandra Beaver Collection Quilt Infused Plaid
URL:https://quiltmuseum.org/event/meet-the-artist-cassandra-beaver-collection-quilt-infused-plaid/
LOCATION:National Quilt Museum\, 215 Jefferson Street\, Paducah\, 42001\, United States
CATEGORIES:Meet the Artist,Quilt Week
ATTACH;FMTTYPE=image/jpeg:https://quiltmuseum.org/wp-content/uploads/2025/04/Infused-Plaid.jpg
END:VEVENT
BEGIN:VEVENT
DTSTART;TZID=America/Chicago:20250425T090000
DTEND;TZID=America/Chicago:20250425T180000
DTSTAMP:20260423T053349
CREATED:20250320T151933Z
LAST-MODIFIED:20250404T170304Z
UID:10000147-1745571600-1745604000@quiltmuseum.org
SUMMARY:QuiltWeek Museum Hours - Open 9 am – 6 pm
DESCRIPTION:QuiltWeek Museum Hours – Open 9 am – 6 pm
URL:https://quiltmuseum.org/event/quiltweek-museum-hours-open-9-am-6-pm/
LOCATION:National Quilt Museum\, 215 Jefferson Street\, Paducah\, 42001\, United States
CATEGORIES:NQM Schedule
ATTACH;FMTTYPE=image/jpeg:https://quiltmuseum.org/wp-content/uploads/2024/08/20240820_135408-scaled-e1724181496588.jpg
END:VEVENT
BEGIN:VEVENT
DTSTART;TZID=America/Chicago:20250424T180000
DTEND;TZID=America/Chicago:20250424T190000
DTSTAMP:20260423T053349
CREATED:20250320T153715Z
LAST-MODIFIED:20250418T160230Z
UID:10000154-1745517600-1745521200@quiltmuseum.org
SUMMARY:Live Auction - Open to the Public
DESCRIPTION:Live Auction – Open to the Public  starting at 6 pm
URL:https://quiltmuseum.org/event/live-auction-open-to-the-public/
LOCATION:National Quilt Museum\, 215 Jefferson Street\, Paducah\, 42001\, United States
CATEGORIES:Auction
ATTACH;FMTTYPE=image/jpeg:https://quiltmuseum.org/wp-content/uploads/2023/04/nqm-square2.jpg
END:VEVENT
BEGIN:VEVENT
DTSTART;TZID=America/Chicago:20250424T173000
DTEND;TZID=America/Chicago:20250424T190000
DTSTAMP:20260423T053349
CREATED:20250320T153520Z
LAST-MODIFIED:20250320T153520Z
UID:10000153-1745515800-1745521200@quiltmuseum.org
SUMMARY:NQM Friends Reception 5:30 – 7 pm
DESCRIPTION:NQM Friends Reception 5:30 – 7 pm
URL:https://quiltmuseum.org/event/nqm-friends-reception-530-7-pm/
LOCATION:National Quilt Museum\, 215 Jefferson Street\, Paducah\, 42001\, United States
CATEGORIES:Reception
ATTACH;FMTTYPE=image/jpeg:https://quiltmuseum.org/wp-content/uploads/2024/08/20240408_145024-scaled.jpg
END:VEVENT
BEGIN:VEVENT
DTSTART;TZID=America/Chicago:20250424T133000
DTEND;TZID=America/Chicago:20250424T143000
DTSTAMP:20260423T053349
CREATED:20250418T161901Z
LAST-MODIFIED:20250418T161901Z
UID:10000204-1745501400-1745505000@quiltmuseum.org
SUMMARY:MJ Kinman Collection Quilt: Char #4 Artist Talk
DESCRIPTION:MJ Kinman Collection Quilt: Char #4      Artist Talk at 10:30am and again at 1:30pm
URL:https://quiltmuseum.org/event/mj-kinman-collection-quilt-char-4-artist-talk-2/2025-04-24/2/
LOCATION:National Quilt Museum\, 215 Jefferson Street\, Paducah\, 42001\, United States
CATEGORIES:Meet the Artist,Quilt Week
ATTACH;FMTTYPE=image/png:https://quiltmuseum.org/wp-content/uploads/2025/04/Char-4-MJ-Kinman-Square-1.png
END:VEVENT
BEGIN:VEVENT
DTSTART;TZID=America/Chicago:20250424T103000
DTEND;TZID=America/Chicago:20250424T113000
DTSTAMP:20260423T053349
CREATED:20250418T161901Z
LAST-MODIFIED:20250418T161901Z
UID:10000203-1745490600-1745494200@quiltmuseum.org
SUMMARY:MJ Kinman Collection Quilt: Char #4 Artist Talk
DESCRIPTION:MJ Kinman Collection Quilt: Char #4      Artist Talk at 10:30am and again at 1:30pm
URL:https://quiltmuseum.org/event/mj-kinman-collection-quilt-char-4-artist-talk-2/2025-04-24/1/
LOCATION:National Quilt Museum\, 215 Jefferson Street\, Paducah\, 42001\, United States
CATEGORIES:Meet the Artist,Quilt Week
ATTACH;FMTTYPE=image/png:https://quiltmuseum.org/wp-content/uploads/2025/04/Char-4-MJ-Kinman-Square-1.png
END:VEVENT
BEGIN:VEVENT
DTSTART;TZID=America/Chicago:20250424T090000
DTEND;TZID=America/Chicago:20250424T190000
DTSTAMP:20260423T053349
CREATED:20250320T152412Z
LAST-MODIFIED:20250418T163306Z
UID:10000150-1745485200-1745521200@quiltmuseum.org
SUMMARY:QuiltWeek Museum Hours - Open 9 am – 7 pm
DESCRIPTION:QuiltWeek Museum Hours – Open 9 am – 7 pm
URL:https://quiltmuseum.org/event/quiltweek-museum-hours-open-9-am-7-pm/
LOCATION:National Quilt Museum\, 215 Jefferson Street\, Paducah\, 42001\, United States
CATEGORIES:NQM Schedule,Quilt Week
ATTACH;FMTTYPE=image/jpeg:https://quiltmuseum.org/wp-content/uploads/2024/08/20240820_135408-scaled-e1724181496588.jpg
END:VEVENT
BEGIN:VEVENT
DTSTART;TZID=America/Chicago:20250314T090000
DTEND;TZID=America/Chicago:20251007T170000
DTSTAMP:20260423T053349
CREATED:20250411T175128Z
LAST-MODIFIED:20250418T162155Z
UID:10000201-1741942800-1759856400@quiltmuseum.org
SUMMARY:Caryl Bryer Fallert-Gentry: A Life In Color
DESCRIPTION:
URL:https://quiltmuseum.org/event/caryl-bryer-fallert-gentry-a-life-in-color/
LOCATION:National Quilt Museum\, 215 Jefferson Street\, Paducah\, 42001\, United States
CATEGORIES:Exhibits
ATTACH;FMTTYPE=image/jpeg:https://quiltmuseum.org/wp-content/uploads/2024/08/Celebration2__full-1.jpg
END:VEVENT
BEGIN:VEVENT
DTSTART;TZID=America/Chicago:20250124T090000
DTEND;TZID=America/Chicago:20250909T170000
DTSTAMP:20260423T053349
CREATED:20250411T174733Z
LAST-MODIFIED:20250411T174733Z
UID:10000200-1737709200-1757437200@quiltmuseum.org
SUMMARY:Victoria Findlay Wolfe: Option Expedition
DESCRIPTION:
URL:https://quiltmuseum.org/event/victoria-findlay-wolfe-option-expedition/
LOCATION:National Quilt Museum\, 215 Jefferson Street\, Paducah\, 42001\, United States
CATEGORIES:Exhibits
ATTACH;FMTTYPE=image/jpeg:https://quiltmuseum.org/wp-content/uploads/2024/08/reddot6.jpg
END:VEVENT
END:VCALENDAR