BEGIN:VCALENDAR
VERSION:2.0
PRODID:-//National Quilt Museum - ECPv6.15.20//NONSGML v1.0//EN
CALSCALE:GREGORIAN
METHOD:PUBLISH
X-WR-CALNAME:National Quilt Museum
X-ORIGINAL-URL:https://quiltmuseum.org
X-WR-CALDESC:Events for National Quilt Museum
REFRESH-INTERVAL;VALUE=DURATION:PT1H
X-Robots-Tag:noindex
X-PUBLISHED-TTL:PT1H
BEGIN:VTIMEZONE
TZID:America/Chicago
BEGIN:DAYLIGHT
TZOFFSETFROM:-0600
TZOFFSETTO:-0500
TZNAME:CDT
DTSTART:20240310T080000
END:DAYLIGHT
BEGIN:STANDARD
TZOFFSETFROM:-0500
TZOFFSETTO:-0600
TZNAME:CST
DTSTART:20241103T070000
END:STANDARD
BEGIN:DAYLIGHT
TZOFFSETFROM:-0600
TZOFFSETTO:-0500
TZNAME:CDT
DTSTART:20250309T080000
END:DAYLIGHT
BEGIN:STANDARD
TZOFFSETFROM:-0500
TZOFFSETTO:-0600
TZNAME:CST
DTSTART:20251102T070000
END:STANDARD
BEGIN:DAYLIGHT
TZOFFSETFROM:-0600
TZOFFSETTO:-0500
TZNAME:CDT
DTSTART:20260308T080000
END:DAYLIGHT
BEGIN:STANDARD
TZOFFSETFROM:-0500
TZOFFSETTO:-0600
TZNAME:CST
DTSTART:20261101T070000
END:STANDARD
BEGIN:DAYLIGHT
TZOFFSETFROM:-0600
TZOFFSETTO:-0500
TZNAME:CDT
DTSTART:20270314T080000
END:DAYLIGHT
BEGIN:STANDARD
TZOFFSETFROM:-0500
TZOFFSETTO:-0600
TZNAME:CST
DTSTART:20271107T070000
END:STANDARD
END:VTIMEZONE
BEGIN:VEVENT
DTSTART;VALUE=DATE:20260405
DTEND;VALUE=DATE:20260406
DTSTAMP:20260422T230638
CREATED:20251217T203527Z
LAST-MODIFIED:20251217T204049Z
UID:10000248-1775347200-1775433599@quiltmuseum.org
SUMMARY:Closed: Easter Sunday
DESCRIPTION:NQM is closed on Easter Sunday\, April 5\, 2026.
URL:https://quiltmuseum.org/event/closed-easter-sunday/
LOCATION:National Quilt Museum\, 215 Jefferson Street\, Paducah\, 42001\, United States
CATEGORIES:NQM Schedule
ATTACH;FMTTYPE=image/jpeg:https://quiltmuseum.org/wp-content/uploads/2023/10/2023-09-01-NQM-facade-2-scaled.jpg
END:VEVENT
BEGIN:VEVENT
DTSTART;VALUE=DATE:20260321
DTEND;VALUE=DATE:20260322
DTSTAMP:20260422T230638
CREATED:20260305T175151Z
LAST-MODIFIED:20260305T175153Z
UID:10000260-1774051200-1774137599@quiltmuseum.org
SUMMARY:National Quilting Day
DESCRIPTION:
URL:https://quiltmuseum.org/event/national-quilting-day-2/
LOCATION:National Quilt Museum\, 215 Jefferson Street\, Paducah\, 42001\, United States
ATTACH;FMTTYPE=image/png:https://quiltmuseum.org/wp-content/uploads/2026/03/NQD2026logo.png
END:VEVENT
BEGIN:VEVENT
DTSTART;TZID=America/Chicago:20260312T090000
DTEND;TZID=America/Chicago:20260314T160000
DTSTAMP:20260422T230638
CREATED:20251215T214109Z
LAST-MODIFIED:20251215T214109Z
UID:10000243-1773306000-1773504000@quiltmuseum.org
SUMMARY:Workshop: Charles Cameron
DESCRIPTION:The workshop will kick off with a detailed overview of the pattern to orient the participants. Hands-on instruction will be provided for each step of the Crooked Crosses and Bent Boxes quilt pattern and classroom time will be allowed for participants to progress toward making a 60” x 50” throw size quilt. \n‘Semi-improv’ is a technique for those who want the look and feel of improv\, but who aren’t quite ready to give up their rulers. The pattern uses efficient\, traditional piecing techniques like strip piecing and nested seams.
URL:https://quiltmuseum.org/event/workshop-charles-cameron/
LOCATION:National Quilt Museum\, 215 Jefferson Street\, Paducah\, 42001\, United States
ATTACH;FMTTYPE=image/png:https://quiltmuseum.org/wp-content/uploads/2025/10/CCBB-sample-Charles-Cameron-feltlikesweets.png
END:VEVENT
BEGIN:VEVENT
DTSTART;TZID=America/Chicago:20260223T173000
DTEND;TZID=America/Chicago:20260223T200000
DTSTAMP:20260422T230638
CREATED:20251215T213059Z
LAST-MODIFIED:20251215T213059Z
UID:10000242-1771867800-1771876800@quiltmuseum.org
SUMMARY:Adult Beginner Class: Bear Paw
DESCRIPTION:An in-person beginner class designed for adults ages 18+ who are interested in learning the basics of quilting or who are looking to increase their skills while creating something new!
URL:https://quiltmuseum.org/event/adult-beginner-class-bear-paw/2026-02-23/
LOCATION:National Quilt Museum\, 215 Jefferson Street\, Paducah\, 42001\, United States
CATEGORIES:Education,Workshops
ATTACH;FMTTYPE=image/png:https://quiltmuseum.org/wp-content/uploads/2025/12/bear-paw-edit.jpg.png
END:VEVENT
BEGIN:VEVENT
DTSTART;TZID=America/Chicago:20260216T173000
DTEND;TZID=America/Chicago:20260216T200000
DTSTAMP:20260422T230638
CREATED:20251215T213059Z
LAST-MODIFIED:20251215T213059Z
UID:10000241-1771263000-1771272000@quiltmuseum.org
SUMMARY:Adult Beginner Class: Bear Paw
DESCRIPTION:An in-person beginner class designed for adults ages 18+ who are interested in learning the basics of quilting or who are looking to increase their skills while creating something new!
URL:https://quiltmuseum.org/event/adult-beginner-class-bear-paw/2026-02-16/
LOCATION:National Quilt Museum\, 215 Jefferson Street\, Paducah\, 42001\, United States
CATEGORIES:Education,Workshops
ATTACH;FMTTYPE=image/png:https://quiltmuseum.org/wp-content/uploads/2025/12/bear-paw-edit.jpg.png
END:VEVENT
BEGIN:VEVENT
DTSTART;TZID=America/Chicago:20260214T110000
DTEND;TZID=America/Chicago:20260214T130000
DTSTAMP:20260422T230638
CREATED:20251215T225027Z
LAST-MODIFIED:20251215T225027Z
UID:10000247-1771066800-1771074000@quiltmuseum.org
SUMMARY:Reception: School Block Challenge 2026
DESCRIPTION:Open to all SBC participating students and their families/teachers. RSVP to this special event by selecting a ticket for each member of your party. \nWhen: Saturday\, February 14\, 2026 at 11am CST \nWhere: National Quilt Museum\, SBC exhibit \nCome view this inspiring exhibit\, celebrate all the participants\, and honor the award winners during the reception. Take photos with your block\, be inspired by the creativity from across the country\, and enjoy a special frozen treat from exhibit sponsor Dippin’ Dots!
URL:https://quiltmuseum.org/event/reception-school-block-challenge-2026/
LOCATION:National Quilt Museum\, 215 Jefferson Street\, Paducah\, 42001\, United States
ATTACH;FMTTYPE=image/jpeg:https://quiltmuseum.org/wp-content/uploads/2025/12/SBC-Logo-Square-PROOF-scaled.jpg
END:VEVENT
BEGIN:VEVENT
DTSTART;TZID=America/Chicago:20260209T173000
DTEND;TZID=America/Chicago:20260209T200000
DTSTAMP:20260422T230638
CREATED:20251215T213059Z
LAST-MODIFIED:20251215T213059Z
UID:10000240-1770658200-1770667200@quiltmuseum.org
SUMMARY:Adult Beginner Class: Bear Paw
DESCRIPTION:An in-person beginner class designed for adults ages 18+ who are interested in learning the basics of quilting or who are looking to increase their skills while creating something new!
URL:https://quiltmuseum.org/event/adult-beginner-class-bear-paw/2026-02-09/
LOCATION:National Quilt Museum\, 215 Jefferson Street\, Paducah\, 42001\, United States
CATEGORIES:Education,Workshops
ATTACH;FMTTYPE=image/png:https://quiltmuseum.org/wp-content/uploads/2025/12/bear-paw-edit.jpg.png
END:VEVENT
BEGIN:VEVENT
DTSTART;TZID=America/Chicago:20260202T173000
DTEND;TZID=America/Chicago:20260202T200000
DTSTAMP:20260422T230638
CREATED:20251215T213059Z
LAST-MODIFIED:20251215T213059Z
UID:10000239-1770053400-1770062400@quiltmuseum.org
SUMMARY:Adult Beginner Class: Bear Paw
DESCRIPTION:An in-person beginner class designed for adults ages 18+ who are interested in learning the basics of quilting or who are looking to increase their skills while creating something new!
URL:https://quiltmuseum.org/event/adult-beginner-class-bear-paw/2026-02-02/
LOCATION:National Quilt Museum\, 215 Jefferson Street\, Paducah\, 42001\, United States
CATEGORIES:Education,Workshops
ATTACH;FMTTYPE=image/png:https://quiltmuseum.org/wp-content/uploads/2025/12/bear-paw-edit.jpg.png
END:VEVENT
BEGIN:VEVENT
DTSTART;TZID=America/Chicago:20260126T173000
DTEND;TZID=America/Chicago:20260126T200000
DTSTAMP:20260422T230638
CREATED:20251215T213059Z
LAST-MODIFIED:20251215T213059Z
UID:10000238-1769448600-1769457600@quiltmuseum.org
SUMMARY:Adult Beginner Class: Bear Paw
DESCRIPTION:An in-person beginner class designed for adults ages 18+ who are interested in learning the basics of quilting or who are looking to increase their skills while creating something new!
URL:https://quiltmuseum.org/event/adult-beginner-class-bear-paw/2026-01-26/
LOCATION:National Quilt Museum\, 215 Jefferson Street\, Paducah\, 42001\, United States
CATEGORIES:Education,Workshops
ATTACH;FMTTYPE=image/png:https://quiltmuseum.org/wp-content/uploads/2025/12/bear-paw-edit.jpg.png
END:VEVENT
BEGIN:VEVENT
DTSTART;TZID=America/Chicago:20260119T173000
DTEND;TZID=America/Chicago:20260119T200000
DTSTAMP:20260422T230638
CREATED:20251215T213059Z
LAST-MODIFIED:20251215T213059Z
UID:10000237-1768843800-1768852800@quiltmuseum.org
SUMMARY:Adult Beginner Class: Bear Paw
DESCRIPTION:An in-person beginner class designed for adults ages 18+ who are interested in learning the basics of quilting or who are looking to increase their skills while creating something new!
URL:https://quiltmuseum.org/event/adult-beginner-class-bear-paw/2026-01-19/
LOCATION:National Quilt Museum\, 215 Jefferson Street\, Paducah\, 42001\, United States
CATEGORIES:Education,Workshops
ATTACH;FMTTYPE=image/png:https://quiltmuseum.org/wp-content/uploads/2025/12/bear-paw-edit.jpg.png
END:VEVENT
BEGIN:VEVENT
DTSTART;TZID=America/Chicago:20260107T140000
DTEND;TZID=America/Chicago:20260107T150000
DTSTAMP:20260422T230638
CREATED:20251224T150450Z
LAST-MODIFIED:20251229T163552Z
UID:10000251-1767794400-1767798000@quiltmuseum.org
SUMMARY:Quilts of Valor Award Ceremony
DESCRIPTION:
URL:https://quiltmuseum.org/event/quilts-of-valor-award-ceremony-2/
LOCATION:National Quilt Museum\, 215 Jefferson Street\, Paducah\, 42001\, United States
CATEGORIES:Events
ATTACH;FMTTYPE=image/jpeg:https://quiltmuseum.org/wp-content/uploads/2025/10/the-gathering.jpg
END:VEVENT
BEGIN:VEVENT
DTSTART;VALUE=DATE:20251231
DTEND;VALUE=DATE:20260101
DTSTAMP:20260422T230638
CREATED:20250331T144636Z
LAST-MODIFIED:20250331T144636Z
UID:10000164-1767139200-1767225599@quiltmuseum.org
SUMMARY:Closed: New Year's Eve
DESCRIPTION:
URL:https://quiltmuseum.org/event/closed-new-years-eve-2/2025-12-31/
LOCATION:National Quilt Museum\, 215 Jefferson Street\, Paducah\, 42001\, United States
CATEGORIES:NQM Schedule
ATTACH;FMTTYPE=image/jpeg:https://quiltmuseum.org/wp-content/uploads/2023/10/2023-09-01-NQM-facade-2-scaled.jpg
END:VEVENT
BEGIN:VEVENT
DTSTART;VALUE=DATE:20251225
DTEND;VALUE=DATE:20251226
DTSTAMP:20260422T230638
CREATED:20250331T144439Z
LAST-MODIFIED:20250331T144515Z
UID:10000159-1766620800-1766707199@quiltmuseum.org
SUMMARY:CLOSED: Christmas Day
DESCRIPTION:
URL:https://quiltmuseum.org/event/closed-christmas-day/2025-12-25/
LOCATION:National Quilt Museum\, 215 Jefferson Street\, Paducah\, 42001\, United States
CATEGORIES:NQM Schedule
ATTACH;FMTTYPE=image/jpeg:https://quiltmuseum.org/wp-content/uploads/2023/10/2023-09-01-NQM-facade-2-scaled.jpg
END:VEVENT
BEGIN:VEVENT
DTSTART;VALUE=DATE:20251224
DTEND;VALUE=DATE:20251225
DTSTAMP:20260422T230638
CREATED:20250331T144342Z
LAST-MODIFIED:20250331T145004Z
UID:10000158-1766534400-1766620799@quiltmuseum.org
SUMMARY:CLOSED: Christmas Eve
DESCRIPTION:
URL:https://quiltmuseum.org/event/closed-christmas-eve/2025-12-24/
LOCATION:National Quilt Museum\, 215 Jefferson Street\, Paducah\, 42001\, United States
CATEGORIES:NQM Schedule
ATTACH;FMTTYPE=image/jpeg:https://quiltmuseum.org/wp-content/uploads/2023/10/2023-09-01-NQM-facade-2-scaled.jpg
END:VEVENT
BEGIN:VEVENT
DTSTART;TZID=America/Chicago:20251205T100000
DTEND;TZID=America/Chicago:20260303T170000
DTSTAMP:20260422T230638
CREATED:20251215T224810Z
LAST-MODIFIED:20251215T224810Z
UID:10000246-1764928800-1772557200@quiltmuseum.org
SUMMARY:School Block Challenge 2026
DESCRIPTION:Be inspired by quilt blocks from K-12 students across the country in the 2026 School Block Challenge Exhibit! \nSponsored by Moda Fabrics and Dippin’ Dots.
URL:https://quiltmuseum.org/event/school-block-challenge-2026/
LOCATION:National Quilt Museum\, 215 Jefferson Street\, Paducah\, 42001\, United States
CATEGORIES:Education,Exhibits
ATTACH;FMTTYPE=image/jpeg:https://quiltmuseum.org/wp-content/uploads/2025/12/SBC-Logo-Square-PROOF-scaled.jpg
END:VEVENT
BEGIN:VEVENT
DTSTART;VALUE=DATE:20251127
DTEND;VALUE=DATE:20251128
DTSTAMP:20260422T230638
CREATED:20250331T144204Z
LAST-MODIFIED:20250331T150015Z
UID:10000157-1764201600-1764287999@quiltmuseum.org
SUMMARY:CLOSED: Thanksgiving
DESCRIPTION:
URL:https://quiltmuseum.org/event/closed-thanksgiving/2025-11-27/
LOCATION:National Quilt Museum\, 215 Jefferson Street\, Paducah\, 42001\, United States
CATEGORIES:NQM Schedule
ATTACH;FMTTYPE=image/jpeg:https://quiltmuseum.org/wp-content/uploads/2023/10/2023-09-01-NQM-facade-2-scaled.jpg
END:VEVENT
BEGIN:VEVENT
DTSTART;TZID=America/Chicago:20251120T140000
DTEND;TZID=America/Chicago:20251120T153000
DTSTAMP:20260422T230638
CREATED:20251028T150915Z
LAST-MODIFIED:20251028T150915Z
UID:10000234-1763647200-1763652600@quiltmuseum.org
SUMMARY:Charles Cameron Meet & Greet
DESCRIPTION:
URL:https://quiltmuseum.org/event/charles-cameron-meet-greet-2/
LOCATION:National Quilt Museum\, 215 Jefferson Street\, Paducah\, 42001\, United States
CATEGORIES:Meet the Artist
ATTACH;FMTTYPE=image/jpeg:https://quiltmuseum.org/wp-content/uploads/2025/10/Charles-Cameron-headshot.jpg
END:VEVENT
BEGIN:VEVENT
DTSTART;TZID=America/Chicago:20251119T100000
DTEND;TZID=America/Chicago:20251119T120000
DTSTAMP:20260422T230638
CREATED:20251028T161924Z
LAST-MODIFIED:20251028T161924Z
UID:10000236-1763546400-1763553600@quiltmuseum.org
SUMMARY:Charles Cameron Meet & Greet
DESCRIPTION:
URL:https://quiltmuseum.org/event/charles-cameron-meet-greet-3/
LOCATION:National Quilt Museum\, 215 Jefferson Street\, Paducah\, 42001\, United States
CATEGORIES:Meet the Artist
ATTACH;FMTTYPE=image/jpeg:https://quiltmuseum.org/wp-content/uploads/2025/10/Charles-Cameron-headshot.jpg
END:VEVENT
BEGIN:VEVENT
DTSTART;TZID=America/Chicago:20251118T140000
DTEND;TZID=America/Chicago:20251118T160000
DTSTAMP:20260422T230638
CREATED:20251028T150315Z
LAST-MODIFIED:20251028T150315Z
UID:10000233-1763474400-1763481600@quiltmuseum.org
SUMMARY:Charles Cameron Meet & Greet
DESCRIPTION:Meet Charles Cameron and see his exhibition A Curious Modern Quilter.
URL:https://quiltmuseum.org/event/charles-cameron-meet-greet/
LOCATION:National Quilt Museum\, 215 Jefferson Street\, Paducah\, 42001\, United States
CATEGORIES:Meet the Artist
ATTACH;FMTTYPE=image/jpeg:https://quiltmuseum.org/wp-content/uploads/2025/10/Charles-Cameron-headshot.jpg
END:VEVENT
BEGIN:VEVENT
DTSTART;TZID=America/Chicago:20251028T090000
DTEND;TZID=America/Chicago:20251230T170000
DTSTAMP:20260422T230639
CREATED:20251028T153909Z
LAST-MODIFIED:20251028T184741Z
UID:10000235-1761642000-1767114000@quiltmuseum.org
SUMMARY:Quilts of Valor: Countdown to America250
DESCRIPTION:
URL:https://quiltmuseum.org/event/quilts-of-valor-countdown-to-america250/
LOCATION:National Quilt Museum\, 215 Jefferson Street\, Paducah\, 42001\, United States
CATEGORIES:Exhibits
ATTACH;FMTTYPE=image/jpeg:https://quiltmuseum.org/wp-content/uploads/2025/10/the-gathering.jpg
END:VEVENT
BEGIN:VEVENT
DTSTART;TZID=America/Chicago:20251010T090000
DTEND;TZID=America/Chicago:20260324T170000
DTSTAMP:20260422T230639
CREATED:20250411T161527Z
LAST-MODIFIED:20250411T161527Z
UID:10000189-1760086800-1774371600@quiltmuseum.org
SUMMARY:Charles Cameron: A Curious Modern Quilter
DESCRIPTION:
URL:https://quiltmuseum.org/event/charles-cameron-a-curious-modern-quilter/
LOCATION:National Quilt Museum\, 215 Jefferson Street\, Paducah\, 42001\, United States
ATTACH;FMTTYPE=image/jpeg:https://quiltmuseum.org/wp-content/uploads/2025/01/Sudoku.jpg
END:VEVENT
BEGIN:VEVENT
DTSTART;TZID=America/Chicago:20250912T093000
DTEND;TZID=America/Chicago:20250913T163000
DTSTAMP:20260422T230639
CREATED:20250725T202652Z
LAST-MODIFIED:20250725T202652Z
UID:10000231-1757669400-1757781000@quiltmuseum.org
SUMMARY:Quilt Documentation Days
DESCRIPTION:  \n 
URL:https://quiltmuseum.org/event/quilt-documentation-days/
LOCATION:National Quilt Museum\, 215 Jefferson Street\, Paducah\, 42001\, United States
CATEGORIES:Events
ATTACH;FMTTYPE=image/jpeg:https://quiltmuseum.org/wp-content/uploads/2025/05/Vintage-Quilt_Full-Quilt-No-Background.jpg
END:VEVENT
BEGIN:VEVENT
DTSTART;TZID=America/Chicago:20250912T090000
DTEND;TZID=America/Chicago:20251202T170000
DTSTAMP:20260422T230639
CREATED:20250714T153618Z
LAST-MODIFIED:20251215T212322Z
UID:10000230-1757667600-1764694800@quiltmuseum.org
SUMMARY:SAQA Primal Forces: Fire
DESCRIPTION:Fire is the third and final component of SAQA’s elemental series\, premiering at The National Quilt Museum. Previous exhibitions included Primal Forces: Earth and Primal Forces: Wind.
URL:https://quiltmuseum.org/event/saqa-primal-forces-fire/
LOCATION:National Quilt Museum\, 215 Jefferson Street\, Paducah\, 42001\, United States
CATEGORIES:Exhibits
ATTACH;FMTTYPE=image/jpeg:https://quiltmuseum.org/wp-content/uploads/2025/07/fire__firestorm3full-sm.jpg
END:VEVENT
BEGIN:VEVENT
DTSTART;TZID=America/Chicago:20250904T090000
DTEND;TZID=America/Chicago:20250906T160000
DTSTAMP:20260422T230639
CREATED:20250411T164908Z
LAST-MODIFIED:20250411T164908Z
UID:10000196-1756976400-1757174400@quiltmuseum.org
SUMMARY:David M. Taylor Workshop: Feathered Friends Pictorial Applique
DESCRIPTION:
URL:https://quiltmuseum.org/event/david-m-taylor-workshop-feathered-friends-pictorial-applique/
LOCATION:National Quilt Museum\, 215 Jefferson Street\, Paducah\, 42001\, United States
ATTACH;FMTTYPE=image/jpeg:https://quiltmuseum.org/wp-content/uploads/2024/11/Taylor_AfterTheRain_Full.jpg
END:VEVENT
BEGIN:VEVENT
DTSTART;TZID=America/Chicago:20250806T090000
DTEND;TZID=America/Chicago:20250808T160000
DTSTAMP:20260422T230639
CREATED:20250411T164515Z
LAST-MODIFIED:20250411T164515Z
UID:10000195-1754470800-1754668800@quiltmuseum.org
SUMMARY:Mary Margaret Pettway Workshop: Quilt Design and Hand Quilting
DESCRIPTION:
URL:https://quiltmuseum.org/event/mary-margaret-pettway-workshop-quilt-design-and-hand-quilting/
LOCATION:National Quilt Museum\, 215 Jefferson Street\, Paducah\, 42001\, United States
CATEGORIES:Education
ATTACH;FMTTYPE=image/jpeg:https://quiltmuseum.org/wp-content/uploads/2025/02/bldg03-scaled.jpg
END:VEVENT
BEGIN:VEVENT
DTSTART;TZID=America/Chicago:20250805T080000
DTEND;TZID=America/Chicago:20250805T170000
DTSTAMP:20260422T230639
CREATED:20250711T163439Z
LAST-MODIFIED:20250711T164044Z
UID:10000207-1754380800-1754413200@quiltmuseum.org
SUMMARY:Museum Closed
DESCRIPTION:
URL:https://quiltmuseum.org/event/museum-closed/
LOCATION:National Quilt Museum\, 215 Jefferson Street\, Paducah\, 42001\, United States
ATTACH;FMTTYPE=image/jpeg:https://quiltmuseum.org/wp-content/uploads/2025/02/bldg03-scaled.jpg
END:VEVENT
BEGIN:VEVENT
DTSTART;TZID=America/Chicago:20250801T090000
DTEND;TZID=America/Chicago:20251228T170000
DTSTAMP:20260422T230639
CREATED:20250515T161718Z
LAST-MODIFIED:20250902T153444Z
UID:10000206-1754038800-1766941200@quiltmuseum.org
SUMMARY:Gee's Bend Quilter: Whiles I Yet Live
DESCRIPTION:By Marlene Bennett JonesPhoto:Stephen Pitkin/Pitkin Studio/Courtesy Souls Grown Deep
URL:https://quiltmuseum.org/event/gees-bend-quilters/
LOCATION:National Quilt Museum\, 215 Jefferson Street\, Paducah\, 42001\, United States
END:VEVENT
BEGIN:VEVENT
DTSTART;TZID=America/Chicago:20250710T090000
DTEND;TZID=America/Chicago:20250712T160000
DTSTAMP:20260422T230639
CREATED:20250411T164150Z
LAST-MODIFIED:20250411T164150Z
UID:10000194-1752138000-1752336000@quiltmuseum.org
SUMMARY:Victoria Findlay Wolfe Workshop: Traveling Hearts Quilt
DESCRIPTION:
URL:https://quiltmuseum.org/event/victoria-findlay-wolfe-workshop-traveling-hearts-quilt/
LOCATION:National Quilt Museum\, 215 Jefferson Street\, Paducah\, 42001\, United States
CATEGORIES:Education
ATTACH;FMTTYPE=image/jpeg:https://quiltmuseum.org/wp-content/uploads/2024/11/TravelingHeartsQuilt-copy.jpg
END:VEVENT
BEGIN:VEVENT
DTSTART;TZID=America/Chicago:20250623T140000
DTEND;TZID=America/Chicago:20250626T163000
DTSTAMP:20260422T230639
CREATED:20250408T143250Z
LAST-MODIFIED:20250408T143250Z
UID:10000188-1750687200-1750955400@quiltmuseum.org
SUMMARY:Quilt Camp: Beginner IV
DESCRIPTION:
URL:https://quiltmuseum.org/event/quilt-camp-beginner-iv-2/
LOCATION:National Quilt Museum\, 215 Jefferson Street\, Paducah\, 42001\, United States
CATEGORIES:Education,Quilt Camps
END:VEVENT
BEGIN:VEVENT
DTSTART;TZID=America/Chicago:20250623T093000
DTEND;TZID=America/Chicago:20250626T120000
DTSTAMP:20260422T230639
CREATED:20250408T143200Z
LAST-MODIFIED:20250408T143200Z
UID:10000187-1750671000-1750939200@quiltmuseum.org
SUMMARY:Quilt Camp: Beginner III
DESCRIPTION:
URL:https://quiltmuseum.org/event/quilt-camp-beginner-iii-3/
LOCATION:National Quilt Museum\, 215 Jefferson Street\, Paducah\, 42001\, United States
CATEGORIES:Education,Quilt Camps
END:VEVENT
END:VCALENDAR