BEGIN:VCALENDAR
VERSION:2.0
PRODID:-//National Quilt Museum - ECPv6.15.20//NONSGML v1.0//EN
CALSCALE:GREGORIAN
METHOD:PUBLISH
X-WR-CALNAME:National Quilt Museum
X-ORIGINAL-URL:https://quiltmuseum.org
X-WR-CALDESC:Events for National Quilt Museum
REFRESH-INTERVAL;VALUE=DURATION:PT1H
X-Robots-Tag:noindex
X-PUBLISHED-TTL:PT1H
BEGIN:VTIMEZONE
TZID:America/Chicago
BEGIN:DAYLIGHT
TZOFFSETFROM:-0600
TZOFFSETTO:-0500
TZNAME:CDT
DTSTART:20250309T080000
END:DAYLIGHT
BEGIN:STANDARD
TZOFFSETFROM:-0500
TZOFFSETTO:-0600
TZNAME:CST
DTSTART:20251102T070000
END:STANDARD
BEGIN:DAYLIGHT
TZOFFSETFROM:-0600
TZOFFSETTO:-0500
TZNAME:CDT
DTSTART:20260308T080000
END:DAYLIGHT
BEGIN:STANDARD
TZOFFSETFROM:-0500
TZOFFSETTO:-0600
TZNAME:CST
DTSTART:20261101T070000
END:STANDARD
BEGIN:DAYLIGHT
TZOFFSETFROM:-0600
TZOFFSETTO:-0500
TZNAME:CDT
DTSTART:20270314T080000
END:DAYLIGHT
BEGIN:STANDARD
TZOFFSETFROM:-0500
TZOFFSETTO:-0600
TZNAME:CST
DTSTART:20271107T070000
END:STANDARD
END:VTIMEZONE
BEGIN:VEVENT
DTSTART;TZID=America/Chicago:20260119T173000
DTEND;TZID=America/Chicago:20260119T200000
DTSTAMP:20260422T225240
CREATED:20251215T213059Z
LAST-MODIFIED:20251215T213059Z
UID:10000237-1768843800-1768852800@quiltmuseum.org
SUMMARY:Adult Beginner Class: Bear Paw
DESCRIPTION:An in-person beginner class designed for adults ages 18+ who are interested in learning the basics of quilting or who are looking to increase their skills while creating something new!
URL:https://quiltmuseum.org/event/adult-beginner-class-bear-paw/2026-01-19/
LOCATION:National Quilt Museum\, 215 Jefferson Street\, Paducah\, 42001\, United States
CATEGORIES:Education,Workshops
ATTACH;FMTTYPE=image/png:https://quiltmuseum.org/wp-content/uploads/2025/12/bear-paw-edit.jpg.png
END:VEVENT
END:VCALENDAR