BEGIN:VCALENDAR
VERSION:2.0
PRODID:-//National Quilt Museum - ECPv6.15.20//NONSGML v1.0//EN
CALSCALE:GREGORIAN
METHOD:PUBLISH
X-ORIGINAL-URL:https://quiltmuseum.org
X-WR-CALDESC:Events for National Quilt Museum
REFRESH-INTERVAL;VALUE=DURATION:PT1H
X-Robots-Tag:noindex
X-PUBLISHED-TTL:PT1H
BEGIN:VTIMEZONE
TZID:America/Chicago
BEGIN:DAYLIGHT
TZOFFSETFROM:-0600
TZOFFSETTO:-0500
TZNAME:CDT
DTSTART:20250309T080000
END:DAYLIGHT
BEGIN:STANDARD
TZOFFSETFROM:-0500
TZOFFSETTO:-0600
TZNAME:CST
DTSTART:20251102T070000
END:STANDARD
BEGIN:DAYLIGHT
TZOFFSETFROM:-0600
TZOFFSETTO:-0500
TZNAME:CDT
DTSTART:20260308T080000
END:DAYLIGHT
BEGIN:STANDARD
TZOFFSETFROM:-0500
TZOFFSETTO:-0600
TZNAME:CST
DTSTART:20261101T070000
END:STANDARD
BEGIN:DAYLIGHT
TZOFFSETFROM:-0600
TZOFFSETTO:-0500
TZNAME:CDT
DTSTART:20270314T080000
END:DAYLIGHT
BEGIN:STANDARD
TZOFFSETFROM:-0500
TZOFFSETTO:-0600
TZNAME:CST
DTSTART:20271107T070000
END:STANDARD
END:VTIMEZONE
BEGIN:VEVENT
DTSTART;TZID=America/Chicago:20260608T093000
DTEND;TZID=America/Chicago:20260611T120000
DTSTAMP:20260422T174820
CREATED:20260203T172654Z
LAST-MODIFIED:20260203T172654Z
UID:10000253-1780911000-1781179200@quiltmuseum.org
SUMMARY:Quilt Camp: Beginner I
DESCRIPTION:Quilt Camp 2026 Registration Opens March 15\, 2026
URL:https://quiltmuseum.org/event/quilt-camp-beginner-i/
LOCATION:National Quilt Museum\, 215 Jefferson Street\, Paducah\, 42001\, United States
CATEGORIES:Education,Quilt Camps
END:VEVENT
BEGIN:VEVENT
DTSTART;TZID=America/Chicago:20260608T140000
DTEND;TZID=America/Chicago:20260611T163000
DTSTAMP:20260422T174820
CREATED:20260203T172829Z
LAST-MODIFIED:20260203T173948Z
UID:10000254-1780927200-1781195400@quiltmuseum.org
SUMMARY:Quilt Camp: Beginner II
DESCRIPTION:Quilt Camp 2026 Registration Opens March 15\, 2026
URL:https://quiltmuseum.org/event/quilt-camp-beginner-ii/
LOCATION:National Quilt Museum\, 215 Jefferson Street\, Paducah\, 42001\, United States
CATEGORIES:Education,Quilt Camps
END:VEVENT
BEGIN:VEVENT
DTSTART;TZID=America/Chicago:20260615T093000
DTEND;TZID=America/Chicago:20260618T120000
DTSTAMP:20260422T174820
CREATED:20260203T173055Z
LAST-MODIFIED:20260203T174005Z
UID:10000255-1781515800-1781784000@quiltmuseum.org
SUMMARY:Quilt Camp: Intermediate
DESCRIPTION:Quilt Camp 2026 Registration Opens March 15\, 2026
URL:https://quiltmuseum.org/event/quilt-camp-intermediate/
LOCATION:National Quilt Museum\, 215 Jefferson Street\, Paducah\, 42001\, United States
CATEGORIES:Education,Quilt Camps
END:VEVENT
BEGIN:VEVENT
DTSTART;TZID=America/Chicago:20260615T140000
DTEND;TZID=America/Chicago:20260618T163000
DTSTAMP:20260422T174820
CREATED:20260203T173226Z
LAST-MODIFIED:20260203T173245Z
UID:10000256-1781532000-1781800200@quiltmuseum.org
SUMMARY:Quilt Camp: Advanced
DESCRIPTION:Quilt Camp 2026 Registration Opens March 15\, 2026
URL:https://quiltmuseum.org/event/quilt-camp-advanced/
LOCATION:National Quilt Museum\, 215 Jefferson Street\, Paducah\, 42001\, United States
CATEGORIES:Education,Quilt Camps
END:VEVENT
BEGIN:VEVENT
DTSTART;TZID=America/Chicago:20260622T093000
DTEND;TZID=America/Chicago:20260625T120000
DTSTAMP:20260422T174820
CREATED:20260203T173341Z
LAST-MODIFIED:20260203T173341Z
UID:10000257-1782120600-1782388800@quiltmuseum.org
SUMMARY:Quilt Camp: Beginner III
DESCRIPTION:Quilt Camp 2026 Registration Opens March 15\, 2026
URL:https://quiltmuseum.org/event/quilt-camp-beginner-iii/
LOCATION:National Quilt Museum\, 215 Jefferson Street\, Paducah\, 42001\, United States
CATEGORIES:Education,Quilt Camps
END:VEVENT
BEGIN:VEVENT
DTSTART;TZID=America/Chicago:20260622T140000
DTEND;TZID=America/Chicago:20260625T163000
DTSTAMP:20260422T174820
CREATED:20260203T173458Z
LAST-MODIFIED:20260203T173535Z
UID:10000258-1782136800-1782405000@quiltmuseum.org
SUMMARY:Quilt Camp: Beginner IV
DESCRIPTION:Quilt Camp 2026 Registration Opens March 15\, 2026
URL:https://quiltmuseum.org/event/quilt-camp-beginner-iv/
LOCATION:National Quilt Museum\, 215 Jefferson Street\, Paducah\, 42001\, United States
CATEGORIES:Education,Quilt Camps
END:VEVENT
BEGIN:VEVENT
DTSTART;TZID=America/Chicago:20260723T090000
DTEND;TZID=America/Chicago:20260725T160000
DTSTAMP:20260422T174820
CREATED:20251215T214640Z
LAST-MODIFIED:20251215T214640Z
UID:10000244-1784797200-1784995200@quiltmuseum.org
SUMMARY:Workshop: Latifah Saafir
DESCRIPTION:In this immersive three-day workshop\, you’ll master the techniques for cutting\, sewing\, and trimming perfect HRTs — then discover just how limitless they are as a design tool. You’ll build a “design vocabulary” of HRT-based blocks and explore how color\, scale\, and proportion transform them into show-stopping quilts. With plenty of guided design play\, you’ll experiment on the design wall\, sketch layouts\, and scale your ideas into a finished quilt top that’s uniquely your own.
URL:https://quiltmuseum.org/event/workshop-latifah-saafir/
LOCATION:National Quilt Museum\, 215 Jefferson Street\, Paducah\, 42001\, United States
CATEGORIES:Education,Workshops
ATTACH;FMTTYPE=image/webp:https://quiltmuseum.org/wp-content/uploads/2025/10/B-W-Hurty-quilt-from-LS-website-e1761750532513.webp
END:VEVENT
BEGIN:VEVENT
DTSTART;TZID=America/Chicago:20260822T090000
DTEND;TZID=America/Chicago:20260822T160000
DTSTAMP:20260422T174820
CREATED:20260203T174346Z
LAST-MODIFIED:20260203T174346Z
UID:10000259-1787389200-1787414400@quiltmuseum.org
SUMMARY:Workshop: Quilted Blazer - Sandra Lee Chandler
DESCRIPTION:
URL:https://quiltmuseum.org/event/workshop-quilted-blazer-sandra-lee-chandler/
LOCATION:National Quilt Museum\, 215 Jefferson Street\, Paducah\, 42001\, United States
CATEGORIES:Education,Workshops
ATTACH;FMTTYPE=image/jpeg:https://quiltmuseum.org/wp-content/uploads/2026/01/Sandra-Lee-quilted-blazer-sample.jpg
END:VEVENT
BEGIN:VEVENT
DTSTART;TZID=America/Chicago:20261001T090000
DTEND;TZID=America/Chicago:20261003T160000
DTSTAMP:20260422T174820
CREATED:20251215T215030Z
LAST-MODIFIED:20251215T215030Z
UID:10000245-1790845200-1791043200@quiltmuseum.org
SUMMARY:Workshop: Paula Nadelstern
DESCRIPTION:This workshop covers unique machine-piecing techniques\, and color and fabric guidelines for creating the complex and mobile reflection of a kaleidoscope. While gaining insight into the nature of symmetry and intricately printed fabrics\, students will learn to create a design that sews together successfully and renders a kaleidoscopic image filled with luminosity and dramatic impact. \nThis class culminates in the creation of a unique and fabulous kaleidoscope block.
URL:https://quiltmuseum.org/event/workshop-paula-nadelstern/
LOCATION:National Quilt Museum\, 215 Jefferson Street\, Paducah\, 42001\, United States
CATEGORIES:Education,Workshops
ATTACH;FMTTYPE=image/jpeg:https://quiltmuseum.org/wp-content/uploads/2025/10/PN-original-Sunstar-scaled.jpeg
END:VEVENT
END:VCALENDAR